BEGIN:VCALENDAR
VERSION:2.0
PRODID:-//eventon.com NONSGML v1.0//EN
CALSCALE:GREGORIAN
METHOD:PUBLISH
BEGIN:VEVENT
UID:69e5ee65c5e6b
DTSTAMP:20260420T091413Z
DTSTART:20260314T180000Z
DTEND:20260314T193000Z
LOCATION:
SUMMARY:Beiggja
DESCRIPTION:Laurdag 14. mars kl 18 Kika Sprangers â€“ saksofonKjetil Muleli
 d â€“ pianoMats Eilertsen â€“ kontrabassPer Oddvar Johansen â€“ trommer Bei
 ggja er resultatet av eit spontant musikalsk samarbeid som vart fÃ¸dd vinte
 ren 2024 og fanga pÃ¥ gruppa sitt debutalbum Morning\,  gjeve ut 13. juni Ã
 ¥ret etter pÃ¥ Hubro. I etterkant av[..]\nhttps://hardangerogvossmuseum.no/
 program_/beiggja/
URL:https://hardangerogvossmuseum.no/program_/beiggja/
END:VEVENT
END:VCALENDAR