BEGIN:VCALENDAR
VERSION:2.0
PRODID:-//eventon.com NONSGML v1.0//EN
CALSCALE:GREGORIAN
METHOD:PUBLISH
BEGIN:VEVENT
UID:69e5e7c01bff3
DTSTAMP:20260420T084552Z
DTSTART:20260418T093000Z
DTEND:20260426T170000Z
LOCATION:Hardanger folkemuseum Museumsvegen 36\,  5778 Utne
SUMMARY:Helgekurs: Montering skjorte og forkle
DESCRIPTION:Sy skjorte og forkle til bunaden Hardanger folkemuseum og Folge
 fonn husflidslag arrangerer fleire helgekurs der me tek for oss dei ulike t
 eknikkane som er nytta til hardangerbunaden. På dette kurset lærer du å 
 montera skjorte og forkle. For å få utbytte av kurset må du ha med deg f
 erdig skjortesaum[..]\nhttps://hardangerogvossmuseum.no/program_/helgekurs-
 montering-skjorte-og-forkle-2/
URL:https://hardangerogvossmuseum.no/program_/helgekurs-montering-skjorte-og-forkle-2/
END:VEVENT
END:VCALENDAR