BEGIN:VCALENDAR
VERSION:2.0
PRODID:-//eventon.com NONSGML v1.0//EN
CALSCALE:GREGORIAN
METHOD:PUBLISH
BEGIN:VEVENT
UID:69e5e898dbc56
DTSTAMP:20260420T084928Z
DTSTART:20260410T200000Z
DTEND:20260410T213000Z
LOCATION:Kabuso Hardangerfjordvegen 626\,  5610 Øystese
SUMMARY:The Nowhere Men
DESCRIPTION:Førestilling: Fredag 10. april kl 20 Billettar @ TicketCo: I s
 al no Lars Saabye Christensen &#8211; opplesing Helge Iberg &#8211; piano H
 elge Iberg spelar sine tolkingar av ikoniske Beatles-låtar\,  og forfattar
 en Lars Saabye Christensen les dikt og poetiske tekstar som er skreddarsydd
 e for konserten\,  saman med personlege kommentarar frå sitt[..]\nhttps://
 hardangerogvossmuseum.no/program_/beatles/
URL:https://hardangerogvossmuseum.no/program_/beatles/
END:VEVENT
END:VCALENDAR