BEGIN:VCALENDAR
VERSION:2.0
PRODID:-//eventon.com NONSGML v1.0//EN
CALSCALE:GREGORIAN
METHOD:PUBLISH
BEGIN:VEVENT
UID:69e5e737f2ea3
DTSTAMP:20260420T084335Z
DTSTART:20260417T190000Z
DTEND:20260417T203000Z
LOCATION:Kabuso Hardangerfjordvegen 626\,  5610 Øystese
SUMMARY:Daniela Reyes
DESCRIPTION:Fredag 17. april kl 19 Support: Delish // Daniela Reyes m/band 
 «&#8230;noen få ganger opplever man en artist som får tid og rom til å 
 opphøre. Daniela Reyes er en artist med slike låter\,  og en temmelig ove
 rrumplende\,  innover-dirrende aura». – Audun Vinger (Dagens næringsliv
 )\,  etter Daniela Reyes-konsert.  Daniela Reyes[..]\nhttps://hardangerogv
 ossmuseum.no/program_/reyes/
URL:https://hardangerogvossmuseum.no/program_/reyes/
END:VEVENT
END:VCALENDAR