BEGIN:VCALENDAR
VERSION:2.0
PRODID:-//eventon.com NONSGML v1.0//EN
CALSCALE:GREGORIAN
METHOD:PUBLISH
BEGIN:VEVENT
UID:69e5e782ad87d
DTSTAMP:20260420T084450Z
DTSTART:20260312T190000Z
DTEND:20260312T203000Z
LOCATION:
SUMMARY:Adrian Myhr trio
DESCRIPTION:Torsdag 12. mars kl 19\,  i kaféområdet «&#8230;det er musik
 k som vil ut til deg som lyttar uansett kva referansene dine er – det er 
 musikk som kommuniserer ut» - Torkjell Hovland\,  Ballade.no Adrian 
 Myhr &#8211; kontrabass Rasmus Kjorstad &#8211; fele\,  langeleik Jan Marti
 n Gismervik &#8211; trommer\,  perkusjon\,  harmonium Adrian Myhr trio be
 finn seg[..]\nhttps://hardangerogvossmuseum.no/program_/myhr/
URL:https://hardangerogvossmuseum.no/program_/myhr/
END:VEVENT
END:VCALENDAR