BEGIN:VCALENDAR
VERSION:2.0
PRODID:-//eventon.com NONSGML v1.0//EN
CALSCALE:GREGORIAN
METHOD:PUBLISH
BEGIN:VEVENT
UID:69e5ea3e2a813
DTSTAMP:20260420T085630Z
DTSTART:20260306T190000Z
DTEND:20260306T235900Z
LOCATION:Kunsthuset Kabuso Hardangerfjordvegen 626\,  5610 Øystese
SUMMARY:Thomas Dybdahl
DESCRIPTION:Fredag 6. mars kl 19 Thomas Dybdahl &#8211; vokal/gitar Dybdahl
  er ein av våre fremste musikarar &#8211; og no kjem han tilbake til konse
 rtsalen i Kabuso! Han har med sine nydelege album etablert seg som ein av N
 orges store artistar og låtskrivarar. For 20 år sidan sat Thomas Dybdahl 
 med[..]\nhttps://hardangerogvossmuseum.no/program_/dybdahl/
URL:https://hardangerogvossmuseum.no/program_/dybdahl/
END:VEVENT
END:VCALENDAR