BEGIN:VCALENDAR
VERSION:2.0
PRODID:-//eventon.com NONSGML v1.0//EN
CALSCALE:GREGORIAN
METHOD:PUBLISH
BEGIN:VEVENT
UID:69e4c552edbc9
DTSTAMP:20260419T120642Z
DTSTART:20250702T180000Z
DTEND:20250730T180000Z
LOCATION:Skredhaugen 5781 Lofthus
SUMMARY:Konsert onsdagar i juli
DESCRIPTION:Folkemusikkonsertar på Skredhaugen i juli. Kvar konsert varer 
 i om lag 45 minutt og er inkludert i museumsbilletten. Utøvar:Anna Margret
 e Emmerhoff GrønsnesHardingfele Onsdagar 2.\,  16. og 30. juli: kl. 18:00 
 Konsertane er arrangert av Hardingfela.no Sidan 2016 har unge\,  lokale fol
 kemusikarar vert sendt ut på vegen i bygdene våre for[..]\nhttps://hardan
 gerogvossmuseum.no/program_/konsertar-onsdagar-i-juli/
URL:https://hardangerogvossmuseum.no/program_/konsertar-onsdagar-i-juli/
END:VEVENT
END:VCALENDAR