BEGIN:VCALENDAR
VERSION:2.0
PRODID:-//eventon.com NONSGML v1.0//EN
CALSCALE:GREGORIAN
METHOD:PUBLISH
BEGIN:VEVENT
UID:69e4ea6288c07
DTSTAMP:20260419T144450Z
DTSTART:20181203T120000Z
DTEND:20181203T160000Z
LOCATION:Voss folkemuseum Mølstervegen 143\,  5705 Voss
SUMMARY:Konsertar med gitaristen Markus Istad Lirhus
DESCRIPTION:Gitaristen Markus Istad Lirhus held konsertar på Mølstertunet
  6. og 20. juli\,  klokka 13 begge dagar. Han har nyleg avslutta eit årsst
 udium i musikk ved Universitetet i Agder i Kristiansand. Han spelar nokre e
 igne låtar\,  nokre coverlåtar\,  og nokre folkemusikkinspirerte låter.\
 nhttps://hardangerogvossmuseum.no/program_/konsertar-med-gitaristen-markus-
 istad-lirhus/var/ri-1.l-L1
URL:https://hardangerogvossmuseum.no/program_/konsertar-med-gitaristen-markus-istad-lirhus/var/ri-1.l-L1
END:VEVENT
END:VCALENDAR