BEGIN:VCALENDAR
VERSION:2.0
PRODID:-//eventon.com NONSGML v1.0//EN
CALSCALE:GREGORIAN
METHOD:PUBLISH
BEGIN:VEVENT
UID:69e5e82b6fb96
DTSTAMP:20260420T084739Z
DTSTART:20250701T123000Z
DTEND:20250731T143000Z
LOCATION:Voss folkemuseum Mølstervegen 143\,  5705 Voss
SUMMARY:Konsertar på Mølstertunet i juli
DESCRIPTION:I juli vert det folkemusikkonsert med hardingfelespelar Martin 
 Gjeraker Haug på Mølstertunet. Speletider: Måndag – Fredag kl. 12:30\,
   13:30 og 14:30. Konsertane er eit samarbeid med Hardingfela.no og Ole Bul
 l akademiet Sidan 2016 har unge\,  lokale folkemusikarar vert sendt ut på 
 vegen i bygdene våre for å syne folkemusikken til[..]\nhttps://hardangero
 gvossmuseum.no/program_/konsertar-i-molstertunet-i-juli/
URL:https://hardangerogvossmuseum.no/program_/konsertar-i-molstertunet-i-juli/
END:VEVENT
END:VCALENDAR