BEGIN:VCALENDAR
VERSION:2.0
PRODID:-//eventon.com NONSGML v1.0//EN
CALSCALE:GREGORIAN
METHOD:PUBLISH
BEGIN:VEVENT
UID:69e5e96cbb0a8
DTSTAMP:20260420T085300Z
DTSTART:20220608T130000Z
DTEND:20220608T150000Z
LOCATION:Voss folkemuseum Mølstervegen 143\,  5705 Voss
SUMMARY:Utstillingsopning og boklansering
DESCRIPTION:Voss husflidslag har i flerie år arbeidd med dokumentasjon av 
 filerte forklebord på Voss. No er dei klare med bok og utstilling. I filer
 ing er utgangspunktet eit ope nett av bomull eller lin. Mønsteret vert dan
 na ved å fylla dei opne rutene med tråd. Det ferdige nettet vert felt inn
 [..]\nhttps://hardangerogvossmuseum.no/program_/utstillingsopning-og-boklan
 sering/
URL:https://hardangerogvossmuseum.no/program_/utstillingsopning-og-boklansering/
END:VEVENT
END:VCALENDAR