BEGIN:VCALENDAR
VERSION:2.0
PRODID:-//eventon.com NONSGML v1.0//EN
CALSCALE:GREGORIAN
METHOD:PUBLISH
BEGIN:VEVENT
UID:69e88ddf61fdb
DTSTAMP:20260422T085911Z
DTSTART:20210616T110000Z
DTEND:20210616T175000Z
LOCATION:Voss folkemuseum Mølstervegen 143\,  5705 Voss
SUMMARY:Sesongopning
DESCRIPTION:Den nye basisutstillinga på Voss folkemuseum\,  Utsyn mot Voss
 \,  står ferdig til sesongopninga 16. juni.  Denne dagen held huset ope k
 l 11-17 og det vert det gratis inngang og kaffi og kake til alle. Korte omv
 isingar kvar heile time. Utstillinga fortel historia om Voss dei siste 500 
 åra\,  og er[..]\nhttps://hardangerogvossmuseum.no/program_/sesongopning-2
 /
URL:https://hardangerogvossmuseum.no/program_/sesongopning-2/
END:VEVENT
END:VCALENDAR