BEGIN:VCALENDAR
VERSION:2.0
PRODID:-//eventon.com NONSGML v1.0//EN
CALSCALE:GREGORIAN
METHOD:PUBLISH
BEGIN:VEVENT
UID:69e5e8ba1569a
DTSTAMP:20260420T085002Z
DTSTART:20240614T160000Z
DTEND:20240616T180000Z
LOCATION:Hardanger fartøyvernsenter Sandvenvegen 50\,  5600 Norheimsund
SUMMARY:Hardanger trebåt- og handverksfestival
DESCRIPTION:Trebåtar\,  Tradisjonshandverk\,  Marknad\,  Konsertar og Folk
 efest. Velkomen til den 24. trebåtfestivalen i Norheimsund! For 2. år på
  rad har me to festivaler i en felles fetsivalhelg. I sentrum finn du båta
 r\,  husflid og musikkscene. På fartøyvernsenteret finn du Handverksgilde
 t\,  med utstilling og demonstrasjoner av ulike tradisjonelle handverk. Fes
 tivalen byr på[..]\nhttps://hardangerogvossmuseum.no/program_/hardanger-tr
 ebat-og-handverksfestival/
URL:https://hardangerogvossmuseum.no/program_/hardanger-trebat-og-handverksfestival/
END:VEVENT
END:VCALENDAR