BEGIN:VCALENDAR
VERSION:2.0
PRODID:-//eventon.com NONSGML v1.0//EN
CALSCALE:GREGORIAN
METHOD:PUBLISH
BEGIN:VEVENT
UID:69e5e7815c371
DTSTAMP:20260420T084449Z
DTSTART:20250116T193000Z
DTEND:20250116T235900Z
LOCATION:Hardanger folkemuseum Museumsvegen 36\,  5778 Utne
SUMMARY:A Journey Among Rosepainters in Hardanger
DESCRIPTION:Rosepainters of Hardanger Collected in a New Book Sverre Strand
 enes has released a new book\,  launching at Hardanger Folk Museum on Thurs
 day\,  January 16\,  at 7:30 PM. The book\,  A Journey Among Rosepainters i
 n Hardanger\,  tells the stories of both local and traveling folk artists w
 ho practiced rosemaling (decorative painting)[..]\nhttps://hardangerogvossm
 useum.no/program_/a-journey-among-rosepainters-in-hardanger/
URL:https://hardangerogvossmuseum.no/program_/a-journey-among-rosepainters-in-hardanger/
END:VEVENT
END:VCALENDAR