BEGIN:VCALENDAR
VERSION:2.0
PRODID:-//eventon.com NONSGML v1.0//EN
CALSCALE:GREGORIAN
METHOD:PUBLISH
BEGIN:VEVENT
UID:69e5e937389fe
DTSTAMP:20260420T085207Z
DTSTART:20240505T153000Z
DTEND:20240505T235900Z
LOCATION:Hardanger folkemuseum Museumsvegen 36\,  5778 Utne
SUMMARY:Benedicte Maurseth Systerspel
DESCRIPTION:Sesongopning på Hardanger folkemuseum sundag 5. mai kl 15.30. 
 Me gler oss til å opna for sesongen med utstillinga Systerspel\,  og konse
 rtframsyninga med same namn! På programet står konsertframsyning med Bene
 dicte Maurseth\,  utstillingsopning ved ordførar på Voss\,  Tonje Såkvit
 ne\,  og samtale med Ingeleiv Kjerland Kvammen\,  som har eit langt spelekv
 inneliv[..]\nhttps://hardangerogvossmuseum.no/program_/benedicte-maurseth-s
 ysterspel/
URL:https://hardangerogvossmuseum.no/program_/benedicte-maurseth-systerspel/
END:VEVENT
END:VCALENDAR