BEGIN:VCALENDAR
VERSION:2.0
PRODID:-//eventon.com NONSGML v1.0//EN
CALSCALE:GREGORIAN
METHOD:PUBLISH
BEGIN:VEVENT
UID:69e5e72acdd1e
DTSTAMP:20260420T084322Z
DTSTART:20231105T163000Z
DTEND:20231105T180000Z
LOCATION:Hardanger folkemuseum Museumsvegen 36\,  5778 Utne
SUMMARY:Utstillingsopning
DESCRIPTION:Den unike vandreutstillinga Hovudplagg og hårmote i folkedrakt
  og bundbruk opnar på Hardanger folkemuseum 5. november kl 16.30. Utstilli
 nga syner tradisjonelle hovudplagg frå mange stader i Noreg\,  slik dei va
 r nytta på 1700 og 1800-tallet og vert brukt til bunad i dag. Nærare 100 
 ulike hovudplagg er med. Hardanger folkemuseum[..]\nhttps://hardangerogvoss
 museum.no/program_/utstillingsopning-10/
URL:https://hardangerogvossmuseum.no/program_/utstillingsopning-10/
END:VEVENT
END:VCALENDAR