BEGIN:VCALENDAR
VERSION:2.0
PRODID:-//eventon.com NONSGML v1.0//EN
CALSCALE:GREGORIAN
METHOD:PUBLISH
BEGIN:VEVENT
UID:69e5e70adef63
DTSTAMP:20260420T084250Z
DTSTART:20230507T173000Z
DTEND:20230507T235000Z
LOCATION:Hardanger folkemuseum Museumsvegen 36\,  5778 Utne
SUMMARY:Kim Rysstad
DESCRIPTION:Kim Rysstad har konsert på Hardanger folkemuseum sundag 7. mai
  kl 17.30. Konserten er ein del av opningsprogrammet for utstillinga Ingunn
  van Etten\,  Bilete og bok. Hjarteleg velkomne alle til konsert og utstill
 ingsopning i Storsalen denne dagen. Kim Rysstad – ei stemme for alle tide
 r! Hausten 2019 fekk Kim sitt[..]\nhttps://hardangerogvossmuseum.no/program
 _/kim-rysstad/
URL:https://hardangerogvossmuseum.no/program_/kim-rysstad/
END:VEVENT
END:VCALENDAR