BEGIN:VCALENDAR
VERSION:2.0
PRODID:-//eventon.com NONSGML v1.0//EN
CALSCALE:GREGORIAN
METHOD:PUBLISH
BEGIN:VEVENT
UID:69e5e91a7cf81
DTSTAMP:20260420T085138Z
DTSTART:20200715T180000Z
DTEND:20200715T190000Z
LOCATION:Skredhaugen 5781 Lofthus
SUMMARY:Konsert Mina Langesæter
DESCRIPTION:Onsdag 15. juli inviterer Skredhaugens vener til konsert Hornis
 ten Mina Gursli Langesæter kjem frå Lofthus i Hardanger. Ho starta sine m
 usikkstudier ved Griegakademiet og fortsatte bachelorstudiene ved Norges mu
 sikkhøgskole i 2018. Mina speler fast i Bergen Filharmoniske Ungdomsorkest
 er og har tidligare sesonger vore gruppeleder. Ho har også deltatt på fle
 re[..]\nhttps://hardangerogvossmuseum.no/program_/konsert-mina-langesaeter-
 2/
URL:https://hardangerogvossmuseum.no/program_/konsert-mina-langesaeter-2/
END:VEVENT
END:VCALENDAR