BEGIN:VCALENDAR
VERSION:2.0
PRODID:-//eventon.com NONSGML v1.0//EN
CALSCALE:GREGORIAN
METHOD:PUBLISH
BEGIN:VEVENT
UID:69e9ddb318214
DTSTAMP:20260423T085203Z
DTSTART:20190707T131500Z
DTEND:20181202T160000Z
LOCATION:Skredhaugen 5781 Lofthus
SUMMARY:Solokonsertar med Jonas Laupsa
DESCRIPTION:I heile juli får du høve til å oppleva solokonserter med den
  unge\,  dyktige felespelaren Jonas Laupsa på Skredhaugen.  Konsertane er
  inkluderte i billetten og finn stad utandørs\,  eller i Nilsastova &#8211
 ; avhengig av veret. Det vert konsertar alle sundagar i juli klokka 13:15\,
   14;15 og 15:15. Jonas kjem frå[..]\nhttps://hardangerogvossmuseum.no/pro
 gram_/solokonsertar-med-jonas-laupsa-3-2-2/
URL:https://hardangerogvossmuseum.no/program_/solokonsertar-med-jonas-laupsa-3-2-2/
END:VEVENT
END:VCALENDAR