BEGIN:VCALENDAR
VERSION:2.0
PRODID:-//eventon.com NONSGML v1.0//EN
CALSCALE:GREGORIAN
METHOD:PUBLISH
BEGIN:VEVENT
UID:69e5e8d875695
DTSTAMP:20260420T085032Z
DTSTART:20241117T130000Z
DTEND:20241117T150000Z
LOCATION:Kunsthuset Kabuso Hardangerfjordvegen 626\,  5610 Øystese
SUMMARY:Familieverkstad
DESCRIPTION:Velkommen til drop in familieverkstad i Bornas Kabuso! Det er b
 litt ei endring i programmet. Verkstad med kunstnar Judith de Haan går ut.
  I staden skal me laga fantasifulle sprellemenn. Slepp fantasien laus. Me s
 kal laga sprellemenn du aldri har sett maken til. Under verkstaden får ein
  utfalda seg kreativt[..]\nhttps://hardangerogvossmuseum.no/program_/famili
 everkstad-14/
URL:https://hardangerogvossmuseum.no/program_/familieverkstad-14/
END:VEVENT
END:VCALENDAR