BEGIN:VCALENDAR
VERSION:2.0
PRODID:-//eventon.com NONSGML v1.0//EN
CALSCALE:GREGORIAN
METHOD:PUBLISH
BEGIN:VEVENT
UID:69e5f2d5bd56e
DTSTAMP:20260420T093309Z
DTSTART:20250308T130000Z
DTEND:20250308T140000Z
LOCATION:Kunsthuset Kabuso Hardangerfjordvegen 626\,  5610 Ã˜ystese
SUMMARY:Kakaokonsert
DESCRIPTION:Lat deg sjarmera av unge talent frÃ¥ Kvam kulturskule &#8211; l
 aurdag 8. mars kl 13! Fire gongar i Ã¥ret byr Kvam kulturskule inn til kons
 ert i Kabuso &#8211; for Ã¥ la deg og dine oppleva kva dei held pÃ¥ med. DÃ
 ¥ kan du lena deg tilbake og hÃ¸yra alt frÃ¥[..]\nhttps://hardangerogvossmu
 seum.no/program_/kvam/
URL:https://hardangerogvossmuseum.no/program_/kvam/
END:VEVENT
END:VCALENDAR