BEGIN:VCALENDAR
VERSION:2.0
PRODID:-//eventon.com NONSGML v1.0//EN
CALSCALE:GREGORIAN
METHOD:PUBLISH
BEGIN:VEVENT
UID:69e5e78159da5
DTSTAMP:20260420T084449Z
DTSTART:20230611T180000Z
DTEND:20230611T235000Z
LOCATION:Kunsthuset Kabuso Hardangerfjordvegen 626\,  5610 Øystese
SUMMARY:Thomas Dybdahl
DESCRIPTION:Endeleg byr sjansen seg til å oppleva Thomas Dybdahl i Kabuso 
 &#8211; sikra deg plass på konserten sundag 11. juni kl 18! Alle med konse
 rtbillett får også inngang i Vestlandsutstillingen (siste visningsdag!) 
     Dybdahl er ein av våre beste og mest profilerte musikarar. Han har m
 ed sine nydelege album etablert[..]\nhttps://hardangerogvossmuseum.no/progr
 am_/thomas-dybdahl/
URL:https://hardangerogvossmuseum.no/program_/thomas-dybdahl/
END:VEVENT
END:VCALENDAR