BEGIN:VCALENDAR
VERSION:2.0
PRODID:-//eventon.com NONSGML v1.0//EN
CALSCALE:GREGORIAN
METHOD:PUBLISH
BEGIN:VEVENT
UID:69e5e92fab942
DTSTAMP:20260420T085159Z
DTSTART:20230319T130000Z
DTEND:20230319T150000Z
LOCATION:Kunsthuset Kabuso Hardangerfjordvegen 626\,  5610 Øystese
SUMMARY:Familieverkstad
DESCRIPTION:Korleis drøymer du om å bu? Saman med kunstnar Huang Chih Hua
  frå Taiwan skal me nytte resirkulerte materialar til å skapa ein drøyme
 bustad. Me nyttar pappesker\,  magasin\,  farga papir med meir. Under verks
 taden frå de utfalda dykk kreativt med ulike materialar og metodar. Verkst
 aden er utforma av ein profesjonell[..]\nhttps://hardangerogvossmuseum.no/p
 rogram_/familieverkstad-2/
URL:https://hardangerogvossmuseum.no/program_/familieverkstad-2/
END:VEVENT
END:VCALENDAR