BEGIN:VCALENDAR
VERSION:2.0
PRODID:-//eventon.com NONSGML v1.0//EN
CALSCALE:GREGORIAN
METHOD:PUBLISH
BEGIN:VEVENT
UID:69e5e82a39e9d
DTSTAMP:20260420T084738Z
DTSTART:20220226T140000Z
DTEND:20220226T235000Z
LOCATION:Kunsthuset Kabuso Hardangerfjordvegen 626\,  5610 Øystese
SUMMARY:Tvillingsong
DESCRIPTION:Filmen Tvillingsong av Anne Tveit Knutsen om tvillingane Eli og
  Toril frå Øystese vert vist 26. februar kl. 14 i Kabuso. Gjennom dei 25 
 minutta filmen varar følger me tvillingane Eli og Toril\,  to kvinner på 
 52 år\,  som lever med utviklingshemming. Når filmen startar bur dei i kv
 art sitt[..]\nhttps://hardangerogvossmuseum.no/program_/tvillingsong-2/
URL:https://hardangerogvossmuseum.no/program_/tvillingsong-2/
END:VEVENT
END:VCALENDAR