BEGIN:VCALENDAR
VERSION:2.0
PRODID:-//eventon.com NONSGML v1.0//EN
CALSCALE:GREGORIAN
METHOD:PUBLISH
BEGIN:VEVENT
UID:69e6392cb7f31
DTSTAMP:20260420T143316Z
DTSTART:20080531
DTEND:20080601
LOCATION:Kunsthuset Kabuso Hardangerfjordvegen 626\,  5610 Øystese
SUMMARY:Nikolai Astrup
DESCRIPTION:I samarbeid med Bergen Kunstmuseum syner Kabuso sommaren 2008\,
   maleri av Nikolai Astrup (1880-1928). Han har som ingen anna kunstnar kla
 rt å fanga mystikken i den vestlandske naturen. Astrup levde det meste av 
 livet i barndomsbygda Jølster og henta praktisk talt alle motiva derifrå.
  Som mange andre kunstnarar i samtida\, [..]\nhttps://hardangerogvossmuseum
 .no/program_/nikolai-astrup-mystikk-i-sommarnatta-h/
URL:https://hardangerogvossmuseum.no/program_/nikolai-astrup-mystikk-i-sommarnatta-h/
END:VEVENT
END:VCALENDAR