BEGIN:VCALENDAR
VERSION:2.0
PRODID:-//eventon.com NONSGML v1.0//EN
CALSCALE:GREGORIAN
METHOD:PUBLISH
BEGIN:VEVENT
UID:69e5e800a648a
DTSTAMP:20260420T084656Z
DTSTART:20230823T180000Z
DTEND:20230823T200000Z
LOCATION:Skredhaugen 5781 Lofthus
SUMMARY:Lyden av Hardanger
DESCRIPTION:Høyr lyden av Hardanger på Skredhaugen onsdag 23. august kl 1
 8. Opedal skule vann Veslefrikkprisen for andre gong med komposisjonen &laq
 uo;Lyden av Hardanger&raquo;. Elevane har spelt med Kork\,  og denne onsdag
 en kan du høyra elevane framføra verket på Skredhaugen. Utstillinga Glim
 t frå ein barndom og kunstsamlinga etter Jon Bleie er[..]\nhttps://hardang
 erogvossmuseum.no/program_/lyden-av-hardanger/
URL:https://hardangerogvossmuseum.no/program_/lyden-av-hardanger/
END:VEVENT
END:VCALENDAR