BEGIN:VCALENDAR
VERSION:2.0
PRODID:-//eventon.com NONSGML v1.0//EN
CALSCALE:GREGORIAN
METHOD:PUBLISH
BEGIN:VEVENT
UID:69e88bf412c90
DTSTAMP:20260422T085100Z
DTSTART:20240621T180000Z
DTEND:20240901T170000Z
LOCATION:Agatunet 5776 Nå
SUMMARY:Exhibition "Law of the Land"
DESCRIPTION:Opening Event on Friday\,  June 21 Program: 18:00 &#8211; Openi
 ng by Anne Elisa Tryti\,  Project Director at Vestland County Municipality.
  Speech by the exhibition&#8217;s academic advisors. 19:30 &#8211; &laquo;B
 etween Land and Law – A Historical Narrative Program&raquo; featuring Gut
 torm Rogdaberg\,  Anne Hesvik\,  Inger-Kristine Riber\,  and Reidun Horvei.
  Separate tickets for[..]\nhttps://hardangerogvossmuseum.no/program_/exhibi
 tion_law_-of_the_land/
URL:https://hardangerogvossmuseum.no/program_/exhibition_law_-of_the_land/
END:VEVENT
END:VCALENDAR