BEGIN:VCALENDAR
VERSION:2.0
PRODID:-//eventon.com NONSGML v1.0//EN
CALSCALE:GREGORIAN
METHOD:PUBLISH
BEGIN:VEVENT
UID:69e4ddfb0162b
DTSTAMP:20260419T135155Z
DTSTART:20230622T123000Z
DTEND:20230622T130000Z
LOCATION:Agatunet 5776 Nå
SUMMARY:Opning barnehageutstillinga 2023
DESCRIPTION:Barneutstillinga 2023 – frå 22.06 til 27.08! Kvart år produ
 serar Aga barnehage ei flott utstilling som vert sett opp i Jakobsstabburet
  – det kvite stabburet bak i tunet. Utstillinga opnar torsdag 22. juni 20
 23 klokka 12:30. Kunstnarene er tilstades\,  og bidreg med song i høve opn
 inga. I år har dei[..]\nhttps://hardangerogvossmuseum.no/program_/opning-b
 arnehageutstillinga-2023/
URL:https://hardangerogvossmuseum.no/program_/opning-barnehageutstillinga-2023/
END:VEVENT
END:VCALENDAR