BEGIN:VCALENDAR
VERSION:2.0
PRODID:-//eventon.com NONSGML v1.0//EN
CALSCALE:GREGORIAN
METHOD:PUBLISH
BEGIN:VEVENT
UID:69e5eaa293e27
DTSTAMP:20260420T085810Z
DTSTART:20250701T120000Z
DTEND:20250731T130000Z
LOCATION:Hardanger folkemuseum Museumsvegen 36\,  5778 Utne
SUMMARY:Guided tours to the Open Air Museum
DESCRIPTION:Join for the guided tours of the Open Air Museum in July. Guide
 d tour times in July: Tuesdays: at 12:00 PM Thursdays: at 12:00 PM Fridays:
  at 12:00 PM The tour ends with a folk music concert. Situated above the Ha
 rdanger Folk Museum is the picturesque museum courtyard\,  shaped like[..]\
 nhttps://hardangerogvossmuseum.no/en/program_/guided-tours-to-the-open-air-
 museum-2/
URL:https://hardangerogvossmuseum.no/en/program_/guided-tours-to-the-open-air-museum-2/
END:VEVENT
END:VCALENDAR