BEGIN:VCALENDAR
VERSION:2.0
PRODID:-//eventon.com NONSGML v1.0//EN
CALSCALE:GREGORIAN
METHOD:PUBLISH
BEGIN:VEVENT
UID:69e5e9ff97144
DTSTAMP:20260420T085527Z
DTSTART:20191108T193000Z
DTEND:20191108T235000Z
LOCATION:Kunsthuset Kabuso Hardangerfjordvegen 626\,  5610 Øystese
SUMMARY:Ole Amund Gjersvik Trio
DESCRIPTION:Anders Olav Ese – gitar Ole Amund Gjersvik – kontrabass Sti
 an Villanger – trommer &nbsp;\nhttps://hardangerogvossmuseum.no/en/progra
 m_/ole-amund-gjersvik-trio-copy/
URL:https://hardangerogvossmuseum.no/en/program_/ole-amund-gjersvik-trio-copy/
END:VEVENT
END:VCALENDAR